BEGIN:VCALENDAR
VERSION:2.0
PRODID:-//DKB-Fitness Terminal - ECPv5.1.5//NONSGML v1.0//EN
CALSCALE:GREGORIAN
METHOD:PUBLISH
X-WR-CALNAME:DKB-Fitness Terminal
X-ORIGINAL-URL:https://dkb.qa
X-WR-CALDESC:Events for DKB-Fitness Terminal
BEGIN:VTIMEZONE
TZID:UTC
BEGIN:STANDARD
TZOFFSETFROM:+0000
TZOFFSETTO:+0000
TZNAME:UTC
DTSTART:20200101T000000
END:STANDARD
END:VTIMEZONE
BEGIN:VEVENT
DTSTART;TZID=UTC:20200721T100000
DTEND;TZID=UTC:20200722T230000
DTSTAMP:20260422T125558
CREATED:20200720T102456Z
LAST-MODIFIED:20200720T102513Z
UID:12219-1595325600-1595458800@dkb.qa
SUMMARY:Yoga
DESCRIPTION:MONDAY: INDOOR : YOGA\nFRIDAY : BOOTCAMP: LADIES ONLY HIIT CLASS WITH FAR\nSATURDAY: LADIES ONLY FITNESS CLASS WITH FAR \n
URL:https://dkb.qa/event/yoga/
LOCATION:YOGA\, DUMMY ADDRESS\, NAGPUR\, MAHARASHTRA\, 440001\, India
CATEGORIES:yoga
ORGANIZER;CN="DUMMY":MAILTO:shahbazuddinkha@gmail.com
END:VEVENT
END:VCALENDAR